BEGIN:VCALENDAR
VERSION:2.0
PRODID:-//Kayak Instruction - ECPv6.15.17//NONSGML v1.0//EN
CALSCALE:GREGORIAN
METHOD:PUBLISH
X-WR-CALNAME:Kayak Instruction
X-ORIGINAL-URL:https://kayakinstruct.com
X-WR-CALDESC:Events for Kayak Instruction
REFRESH-INTERVAL;VALUE=DURATION:PT1H
X-Robots-Tag:noindex
X-PUBLISHED-TTL:PT1H
BEGIN:VTIMEZONE
TZID:America/Chicago
BEGIN:DAYLIGHT
TZOFFSETFROM:-0600
TZOFFSETTO:-0500
TZNAME:CDT
DTSTART:20240310T080000
END:DAYLIGHT
BEGIN:STANDARD
TZOFFSETFROM:-0500
TZOFFSETTO:-0600
TZNAME:CST
DTSTART:20241103T070000
END:STANDARD
BEGIN:DAYLIGHT
TZOFFSETFROM:-0600
TZOFFSETTO:-0500
TZNAME:CDT
DTSTART:20250309T080000
END:DAYLIGHT
BEGIN:STANDARD
TZOFFSETFROM:-0500
TZOFFSETTO:-0600
TZNAME:CST
DTSTART:20251102T070000
END:STANDARD
BEGIN:DAYLIGHT
TZOFFSETFROM:-0600
TZOFFSETTO:-0500
TZNAME:CDT
DTSTART:20260308T080000
END:DAYLIGHT
BEGIN:STANDARD
TZOFFSETFROM:-0500
TZOFFSETTO:-0600
TZNAME:CST
DTSTART:20261101T070000
END:STANDARD
END:VTIMEZONE
BEGIN:VEVENT
DTSTART;TZID=America/Chicago:20250322T130000
DTEND;TZID=America/Chicago:20250322T160000
DTSTAMP:20260425T074747
CREATED:20250207T220609Z
LAST-MODIFIED:20250320T204223Z
UID:535-1742648400-1742659200@kayakinstruct.com
SUMMARY:3/22 - National Foundation of the Blind of Texas
DESCRIPTION:Please complete and bring the required waiver with you. \nhttp://kayakinstruct.com/wp-content/uploads/2025/02/KIWaiver.pdf
URL:https://kayakinstruct.com/event/national-foundation-of-the-blind-of-texas-2/
LOCATION:Purtis Creek State Park
ORGANIZER;CN="Dave Holl":MAILTO:dave@kayakinstruct.com
END:VEVENT
BEGIN:VEVENT
DTSTART;TZID=America/Chicago:20250329T080000
DTEND;TZID=America/Chicago:20250329T170000
DTSTAMP:20260425T074747
CREATED:20250207T223938Z
LAST-MODIFIED:20250320T204351Z
UID:539-1743235200-1743267600@kayakinstruct.com
SUMMARY:3/29 - Audubon Kayak Bird Tour Educator Colaborative
DESCRIPTION:Please complete and bring the required waiver with you. \nhttp://kayakinstruct.com/wp-content/uploads/2025/02/KIWaiver.pdf
URL:https://kayakinstruct.com/event/audubon-kayak-bird-tour-educator-colaborative/
LOCATION:Kayak Crossing Outpost\, 6800 Miller Rd\, Rowlett\, TX\, 75088\, United States
END:VEVENT
END:VCALENDAR