BEGIN:VCALENDAR
VERSION:2.0
PRODID:-//Kayak Instruction - ECPv6.15.17//NONSGML v1.0//EN
CALSCALE:GREGORIAN
METHOD:PUBLISH
X-WR-CALNAME:Kayak Instruction
X-ORIGINAL-URL:https://kayakinstruct.com
X-WR-CALDESC:Events for Kayak Instruction
REFRESH-INTERVAL;VALUE=DURATION:PT1H
X-Robots-Tag:noindex
X-PUBLISHED-TTL:PT1H
BEGIN:VTIMEZONE
TZID:America/Chicago
BEGIN:DAYLIGHT
TZOFFSETFROM:-0600
TZOFFSETTO:-0500
TZNAME:CDT
DTSTART:20240310T080000
END:DAYLIGHT
BEGIN:STANDARD
TZOFFSETFROM:-0500
TZOFFSETTO:-0600
TZNAME:CST
DTSTART:20241103T070000
END:STANDARD
BEGIN:DAYLIGHT
TZOFFSETFROM:-0600
TZOFFSETTO:-0500
TZNAME:CDT
DTSTART:20250309T080000
END:DAYLIGHT
BEGIN:STANDARD
TZOFFSETFROM:-0500
TZOFFSETTO:-0600
TZNAME:CST
DTSTART:20251102T070000
END:STANDARD
BEGIN:DAYLIGHT
TZOFFSETFROM:-0600
TZOFFSETTO:-0500
TZNAME:CDT
DTSTART:20260308T080000
END:DAYLIGHT
BEGIN:STANDARD
TZOFFSETFROM:-0500
TZOFFSETTO:-0600
TZNAME:CST
DTSTART:20261101T070000
END:STANDARD
END:VTIMEZONE
BEGIN:VEVENT
DTSTART;TZID=America/Chicago:20250607T090000
DTEND;TZID=America/Chicago:20250607T120000
DTSTAMP:20260425T061554
CREATED:20250124T204805Z
LAST-MODIFIED:20250407T134023Z
UID:489-1749286800-1749297600@kayakinstruct.com
SUMMARY:6/7 - KickStart 1 Intro to Kayaking
DESCRIPTION:Introduction to Kayaking\nFor Beginner to Intermediate Paddlers\nClass Instruction provided by Combat Kayak \nClass Covers:Introduction to recreational kayaking. Learn basic kayaking skills for added safety & confidence on the water. How to recognize hazards with safety & rescue techniques. Review gear how to use it\, terminology\, strokes\, what to wear & more. Practice different paddle strokes. Classes are taught in class room & on open calm water. Equipment provided kayak\, paddle & PFD \nMaximum Class Size: 20 Students\nPrice: $90 per Student\nClass Length: 3 Hours\nDates Offered: TBA\nClasses are non-refundable\, no rain checks unless class is canceled. Ask for details. \nTo schedule a private lesson or a group lesson email elissa@combatkayak.com or dave@kayakinstruct.com \nStudents check in at Kayak Crossing Outpost\, 6917 Miller Road\, Rowlett\, Texas 75088 for classes. Additional parking is available across the street if needed. \nPlease complete and bring the required waiver with you. \nhttp://kayakinstruct.com/wp-content/uploads/2025/02/KIWaiver.pdf
URL:https://kayakinstruct.com/event/kickstart_1-intro-to-kayaking/
LOCATION:Kayak Crossing Outpost\, 6800 Miller Rd\, Rowlett\, TX\, 75088\, United States
CATEGORIES:Classes
ORGANIZER;CN="Dave Holl":MAILTO:dave@kayakinstruct.com
END:VEVENT
BEGIN:VEVENT
DTSTART;TZID=America/Chicago:20250607T130000
DTEND;TZID=America/Chicago:20250607T160000
DTSTAMP:20260425T061554
CREATED:20250124T211503Z
LAST-MODIFIED:20250407T134046Z
UID:504-1749301200-1749312000@kayakinstruct.com
SUMMARY:6/7 - Women on the Water KickStart 1 Intro to Kayaking
DESCRIPTION:Introduction to Kayaking\nFor Beginner to Intermediate Paddlers\nClass Instruction provided by Combat Kayak \nClass Covers:Introduction to recreational kayaking. Learn basic kayaking skills for added safety & confidence on the water. How to recognize hazards with safety & rescue techniques. Review gear how to use it\, terminology\, strokes\, what to wear & more. Practice different paddle strokes. Classes are taught in class room & on open calm water. Equipment provided kayak\, paddle & PFD \nMaximum Class Size: 20 Students\nPrice: $90 per Student\nClass Length: 3 Hours\nDates Offered: TBA\nClasses are non-refundable\, no rain checks unless class is canceled. Ask for details. \nTo schedule a private lesson or a group lesson email elissa@combatkayak.com or dave@kayakinstruct.com \nStudents check in at Kayak Crossing Outpost\, 6917 Miller Road\, Rowlett\, Texas 75088 for classes. Additional parking is available across the street if needed. \nPlease complete and bring the required waiver with you. \nhttp://kayakinstruct.com/wp-content/uploads/2025/02/KIWaiver.pdf
URL:https://kayakinstruct.com/event/kickstart-1-intro-to-kayaking/
LOCATION:Kayak Crossing Outpost\, 6800 Miller Rd\, Rowlett\, TX\, 75088\, United States
CATEGORIES:Classes
ORGANIZER;CN="Dave Holl":MAILTO:dave@kayakinstruct.com
END:VEVENT
END:VCALENDAR